BEGIN:VCALENDAR
VERSION:2.0
PRODID:-//TYPO3/NONSGML News system (news)//EN
BEGIN:VEVENT
UID:news-135936@erziehungs-bildungswissenschaft.uni-graz.at
DTSTAMP:20260420T113326Z
DTSTART:20260521T140000Z
DTEND:20260521T170000Z
SUMMARY:Verleihung Master Award Erwachsenen- und Weiterbildung &amp; Sozialpädagogik

DESCRIPTION:Am 21.5.2026 findet am Institut für Erziehungs- und Bildungswissenschaft die erste Verleihung des Master Awards statt. Neben der feierlichen Prämierung der Preisträger:innen für ihre Masterarbeiten gibt es ein vielfältiges Programm, vor allem für Studierende.
END:VEVENT
END:VCALENDAR
